BEGIN:VCALENDAR
VERSION:2.0
PRODID:-//Flexible Healing - ECPv4.6.14.1//NONSGML v1.0//EN
CALSCALE:GREGORIAN
METHOD:PUBLISH
X-WR-CALNAME:Flexible Healing
X-ORIGINAL-URL:https://flexible-healing.com
X-WR-CALDESC:Events for Flexible Healing
BEGIN:VEVENT
DTSTART;TZID=UTC+0:20221108T090000
DTEND;TZID=UTC+0:20221108T170000
DTSTAMP:20260420T220843
CREATED:20220116T202644Z
LAST-MODIFIED:20221108T205430Z
UID:3017-1667898000-1667926800@flexible-healing.com
SUMMARY:Coaching skills for body workers
DESCRIPTION: \nThis workshop will be limited to 6 therapist. \nThrough coaching skills\, we can find unique ways to enable our clients to wellness. Finding the language that is positive\, inquisitive\, and curious that enables patients to make different choices for themselves \nKey objectives of the workshop : \n\nDeveloping therapists skills in enabling / coaching clients to manage their own wellbeing.\nThe day will explore how we set compassionate boundaries.\nHow we can coach our patients to commit to practice/rehabilitation\nHow we hold space for those people who have been through lots of trauma\, both physically and emotionally.\n\n
URL:https://flexible-healing.com/event/coaching-skills-for-body-workers/
LOCATION:Leeds Road\, Leeds\, LS16 9JJ\, United Kingdom
ORGANIZER;CN="Sue":MAILTO:info@flexible-healing.com
END:VEVENT
END:VCALENDAR