BEGIN:VCALENDAR
VERSION:2.0
PRODID:-//Flexible Healing - ECPv4.6.14.1//NONSGML v1.0//EN
CALSCALE:GREGORIAN
METHOD:PUBLISH
X-WR-CALNAME:Flexible Healing
X-ORIGINAL-URL:https://flexible-healing.com
X-WR-CALDESC:Events for Flexible Healing
BEGIN:VEVENT
DTSTART;VALUE=DATE:20180908
DTEND;VALUE=DATE:20180911
DTSTAMP:20260421T165142
CREATED:20171219T135911Z
LAST-MODIFIED:20180604T214701Z
UID:2172-1536364800-1536623999@flexible-healing.com
SUMMARY:Developing the Hendrickson Method
DESCRIPTION:Developing the Hendrickson Method is a 3 day workshop with the primary aim of exploring the clinical application of the Hendrickson Method. This is an opportunity for qualified practitioners to enhance and apply their skills further for greater results and precision in practice. \n \nThe aims of this workshop. \n\nReview assessment technique and explore how they inform dysfunction.\nExploring methods of assessment\nTaking time to create and practice whole body treatments\nLearn to manage our selves whilst treating and approaching patients\nPracticing precision within both soft tissue mobilisation and the wave mobilisation\n\n*See ticket types below\, or please note I’m offering a payment plan of 8 payments of £77.00 starting 26th January 2018 (contact me for details). \n  \n
URL:https://flexible-healing.com/event/developing-hendrickson-method/
LOCATION:Cowpasture Rd\, Leeds\, LS29 8RQ\, United Kingdom
ORGANIZER;CN="Sue":MAILTO:info@flexible-healing.com
END:VEVENT
END:VCALENDAR