BEGIN:VCALENDAR
VERSION:2.0
PRODID:-//Flexible Healing - ECPv4.6.14.1//NONSGML v1.0//EN
CALSCALE:GREGORIAN
METHOD:PUBLISH
X-WR-CALNAME:Flexible Healing
X-ORIGINAL-URL:https://flexible-healing.com
X-WR-CALDESC:Events for Flexible Healing
BEGIN:VEVENT
DTSTART;TZID=UTC+0:20211009T080000
DTEND;TZID=UTC+0:20211010T170000
DTSTAMP:20260421T035611
CREATED:20201110T111616Z
LAST-MODIFIED:20210907T114402Z
UID:2852-1633766400-1633885200@flexible-healing.com
SUMMARY:Diving Deep into the Hendrickson Method
DESCRIPTION: \nThis two day workshop will bring together experienced Hendrickson Method practitioners with those new to the method\, offering a space to be introduced to the technique\, learn more\, expand on current knowledge and share with fellow therapists. We also aim to explore the difference between treating patients with soft tissue injury and those who need help to bring the parasympathetic nervous system back into balance. \nIt will qualify as 16 hours of CPD training. \n  \nKey objectives  of the workshop \n\nTo introduce new therapists to Tom H’s amazing work\, wave and soft tissue mobilisations\nTo share knowledge of Tom’s work with experienced practitioners\nFor experienced practitioners to investigate how we enhance precision and effectiveness of the technique whilst protecting the patient\nExamine the 4 diaphragms within the context of the pandemic\, where we’ve seen more patients presenting with tight and restricted diaphragms through lack of full breathing and stress\nExplore how to really listen to patients using NLP\n\nThere will be an opportunity for  a social dinner at the end of  Saturday night as we haven’t spent time together as a group for some time\, and new folks can get to knows us if they choose. \nAs always with Flexible Healing works\, tea/coffee and lunch will be provided. Let us know on booking if you have dietary requirements. \n
URL:https://flexible-healing.com/event/diving-deep-into-the-hendrickson-method/
LOCATION:Leeds Road\, Leeds\, LS16 9JJ\, United Kingdom
ORGANIZER;CN="Sue":MAILTO:info@flexible-healing.com
END:VEVENT
END:VCALENDAR