BEGIN:VCALENDAR
VERSION:2.0
PRODID:-//Flexible Healing - ECPv4.6.14.1//NONSGML v1.0//EN
CALSCALE:GREGORIAN
METHOD:PUBLISH
X-WR-CALNAME:Flexible Healing
X-ORIGINAL-URL:https://flexible-healing.com
X-WR-CALDESC:Events for Flexible Healing
BEGIN:VEVENT
DTSTART;VALUE=DATE:20190316
DTEND;VALUE=DATE:20190318
DTSTAMP:20260421T140936
CREATED:20180610T210533Z
LAST-MODIFIED:20190307T220346Z
UID:2483-1552694400-1552867199@flexible-healing.com
SUMMARY:Exploring the 4 Diaphragms: Cranial\, Cervical\, Thoracic\, and Pelvic
DESCRIPTION:\n\nThis is  a 2 day Continuing Professional Development (CPD) workshop (16 hours)\, in which we will explore applying our skills to the 4 diaphragms. This event is a skills workshop for practitioners who have attended any Hendrickson Method training which will help increase anatomical understanding to enable greater precision and results in clinic. Areas covered include:\n\n\nInvestigating fascial implications.\nGaining a greater understanding of how our Hendrickson Method enables treatment of the fascia.\nExamining the body as a whole\, not just a sum of the parts.\nHow we can enable our patients to achieve functional posture that works best for them\, with the aim to improve respiratory function and enable greater movement for each individual.\nPracticing soft-tissue mobilisations\nReviewing our knowledge of anatomy\nExploring movements that can enable our patients to understand their own body awareness\, function\, and fitness\n\nLed by: Sue Bennett\nIncluded: Refreshments\, lunch and workbook\nDress code: loose\, comfortable\, smart\nDuration: 2 days\nTimes: 9am – 6pm\nCPD hours: 16\n
URL:https://flexible-healing.com/event/exploring-the-4-diaphragms/
LOCATION:Leeds Road\, Leeds\, LS16 9JJ\, United Kingdom
ORGANIZER;CN="Sue":MAILTO:info@flexible-healing.com
END:VEVENT
END:VCALENDAR