BEGIN:VCALENDAR
VERSION:2.0
PRODID:-//Flexible Healing - ECPv4.6.14.1//NONSGML v1.0//EN
CALSCALE:GREGORIAN
METHOD:PUBLISH
X-WR-CALNAME:Flexible Healing
X-ORIGINAL-URL:https://flexible-healing.com
X-WR-CALDESC:Events for Flexible Healing
BEGIN:VEVENT
DTSTART;TZID=UTC+0:20190209T090000
DTEND;TZID=UTC+0:20190209T170000
DTSTAMP:20260421T153557
CREATED:20181121T225230Z
LAST-MODIFIED:20190120T100734Z
UID:2539-1549702800-1549731600@flexible-healing.com
SUMMARY:Hendrickson Method Review Day
DESCRIPTION: \nThis is a study day to review and consolidate the Hendrickson Method techniques that Tom shared with us in a workshop earlier this year. It will involve open seminars and practical work\, and will be a fantastic opportunity to ask any questions\, share knowledge with fellow therapists and talk about key areas of interest. \nWe will be discussing and practicing key areas such as the abdominal cavity visceral release\, the hyoid diaphragms\, supine neck work\, and mobilisations for the wrist. \nThe only prerequisite for attendance is that you have attended a Hendrickson Method workshop\, of any variety. \nYou will need to bring along Tom’s book and your favourite anatomy and physiology book for reference throughout the day. \nTea and coffee included. \n
URL:https://flexible-healing.com/event/hendrickson-method-review-day/
LOCATION:Leeds Road\, Leeds\, LS16 9JJ\, United Kingdom
ORGANIZER;CN="Sue":MAILTO:info@flexible-healing.com
END:VEVENT
END:VCALENDAR