BEGIN:VCALENDAR
VERSION:2.0
PRODID:-//Flexible Healing - ECPv4.6.14.1//NONSGML v1.0//EN
CALSCALE:GREGORIAN
METHOD:PUBLISH
X-WR-CALNAME:Flexible Healing
X-ORIGINAL-URL:https://flexible-healing.com
X-WR-CALDESC:Events for Flexible Healing
BEGIN:VEVENT
DTSTART;VALUE=DATE:20150228
DTEND;VALUE=DATE:20150301
DTSTAMP:20260422T134814
CREATED:20141030T173005Z
LAST-MODIFIED:20180306T124541Z
UID:1555-1425081600-1425167999@flexible-healing.com
SUMMARY:Hendrickson Method Study Day: Exploring The Nervous System - 1 Day (SOLD OUT)
DESCRIPTION:The day will be spent reviewing our understanding of Central Sensitization. So many of the patients we see are in this state of ‘high alert’. \nOver the day we will review our palpation skills\, explore how our touch and intention can help someone in long term chronic pain and discover that our choice of communication can influence our patients. \nNociceptive Pain: Creating passive movements that are in a pain free range to calm nociceptors. \nPeripheral Neurogenic Pain: We will explore methods of treatment that may be helpful and autonomic changes. \nInvestigating methods of mobilising nerves\, gentle stretching\, and gentle palpation. \nYou need to be a Hendrickson Method practitioner or experienced fulltime bodyworker to attend this work workshop. \nYou will need one couch cover & one pillow. \n  \nLed By: Sue Bennett \nIncluded: Tea/Coffee\, Light Refreshments and Workbook are provided \nDress Code: Loose\, comfortable\, smart \nDuration: 1 Day \nTimes: 9am – 6pm \nCPD Hours: 8 \n
URL:https://flexible-healing.com/event/hendrickson-method-study-day-exploring-nervous-system-1-day/
LOCATION:Leeds Road\, Leeds\, LS16 9JJ\, United Kingdom
ORGANIZER;CN="Sue":MAILTO:info@flexible-healing.com
END:VEVENT
END:VCALENDAR