BEGIN:VCALENDAR
VERSION:2.0
PRODID:-//Flexible Healing - ECPv4.6.14.1//NONSGML v1.0//EN
CALSCALE:GREGORIAN
METHOD:PUBLISH
X-WR-CALNAME:Flexible Healing
X-ORIGINAL-URL:https://flexible-healing.com
X-WR-CALDESC:Events for Flexible Healing
BEGIN:VEVENT
DTSTART;VALUE=DATE:20150516
DTEND;VALUE=DATE:20150518
DTSTAMP:20260422T112113
CREATED:20140825T085937Z
LAST-MODIFIED:20180306T124335Z
UID:1472-1431734400-1431907199@flexible-healing.com
SUMMARY:Hendrickson Method Study Days: ILIOPSOAS - 2 Days (SOLD OUT)
DESCRIPTION:In depth study of ILIOPSOAS. \nThis two day workshop will deepen anatomical knowledge of the iliopsoas\, its functional role in extension and flexion\, its relationship with the piriformis\, exploring other muscles that aid in dynamically stabilizing the pelvis and lumbar spine. This would include transverse abdominis\, multifidi\, pelvic floor\, looking into how lower fibres of trapezius and attachments of Latissimus dorse interweave with the fibrous attachments of the psoas. \nWith exercises to help patients reconnect with these muscles based on the imagery work of Eric Franklin. Breathing exercises that will help patients to reconnect with their pelvic floor\, and the relationship with the flexion and extension of the lumber spine. \n  \nLed By: Sue Bennett \nIncluded: Tea/Coffee\, Lunch and Workbook are provided \nDress Code: Loose\, comfortable\, smart \nDuration: 2 Days \nTimes: 9am – 5pm \nCPD Hours: 16 \n
URL:https://flexible-healing.com/event/hendrickson-method-study-days-iliopsoas-2-days/
LOCATION:Chaffer Fields/Pool Rd\, Otley\, LS21 1EG\, United Kingdom
ORGANIZER;CN="Sue":MAILTO:info@flexible-healing.com
END:VEVENT
END:VCALENDAR