BEGIN:VCALENDAR
VERSION:2.0
PRODID:-//Flexible Healing - ECPv4.6.14.1//NONSGML v1.0//EN
CALSCALE:GREGORIAN
METHOD:PUBLISH
X-WR-CALNAME:Flexible Healing
X-ORIGINAL-URL:https://flexible-healing.com
X-WR-CALDESC:Events for Flexible Healing
BEGIN:VEVENT
DTSTART;VALUE=DATE:20141016
DTEND;VALUE=DATE:20141020
DTSTAMP:20260422T180151
CREATED:20140825T081220Z
LAST-MODIFIED:20180306T124051Z
UID:1458-1413417600-1413763199@flexible-healing.com
SUMMARY:Hendrickson Method Upper Quadrant Workshop (Level 2) - 4 Days
DESCRIPTION:The prerequisite of this workshop is the completion of Level One Upper Quadrant Hendrickson Method ® Certification. \nThe fundamentals of this workshop are: \n\nThe musculoskeletal and neurological system within the thoracic and cervical spine\, shoulder\, girdle\, arm\, wrist and hand.\nRefine our strokes to address deeper structures of the musculoskeletal system i.e. ligament\, joint capsule and tenoperiosteal sites.\nSharpen assessment skills\, to enable a clearer understanding in the development of treatment plans.\nInvestigate patterns of muscular dysfunction and the neurological basis behind them.\n\n  \nLed By: Sue Bennett \nIncluded: Tea/Coffee\, Lunch and Workbook are provided \nDress Code: Loose\, comfortable\, smart \nDuration: 4 Days \nTimes: 9am – 5pm \nCPD Hours: 28 \n
URL:https://flexible-healing.com/event/hendrickson-method-upper-quadrant-workshop-level-2-4-days/
LOCATION:45 St Davids Road\, Otley\, West Yorkshire\, LS21 2AW\, United Kingdom
ORGANIZER;CN="Sue":MAILTO:info@flexible-healing.com
END:VEVENT
END:VCALENDAR