BEGIN:VCALENDAR
VERSION:2.0
PRODID:-//Flexible Healing - ECPv4.6.14.1//NONSGML v1.0//EN
CALSCALE:GREGORIAN
METHOD:PUBLISH
X-WR-CALNAME:Flexible Healing
X-ORIGINAL-URL:https://flexible-healing.com
X-WR-CALDESC:Events for Flexible Healing
BEGIN:VEVENT
DTSTART;VALUE=DATE:20171028
DTEND;VALUE=DATE:20171030
DTSTAMP:20260423T143706
CREATED:20161007T131624Z
LAST-MODIFIED:20170903T144348Z
UID:1981-1509148800-1509321599@flexible-healing.com
SUMMARY:Introduction to Hendrickson Method - (2 days)
DESCRIPTION:This 2 day workshop is designed to give massage therapists\, physiotherapists\, osteopaths\, chiropractors and Pilates instructors the opportunity to explore the Hendrickson Method without embarking on the full programme to discover if this technique will be beneficial to their practice. \nOver the next 2 days we will explore the science behind the Hendrickson Method. \nHere are the six aims of the workshop: \n\nReview the musculoskeletal anatomy of the spine;\nTo practice and understand the application of wave mobilisation® ;\nTo explore the theory and practice of the Hendrickson Method soft tissue mobilisation.\nHow to talk to patient to enable them to feel comfortable and confident in the therapists’ skills and intension\nHow to integrate movement into our HM treatment.\n How to enable the people we work to make the best choice for themselves\n\n“When we give an HM treatment\, we are intentionally communicating very specific information to our client/patient’s nervous system through our hands and heart. The message that comes through is\, “You are safe. You are cared for.” The client/patient relaxes and we gain access into their parasympathetic nervous system. This allows the HM protocol of soft tissue mobilization\, joint mobilization and METs to affect deep changes in the body much more efficiently and effectively” – Thomas Hendrickson \n  \nAttendees will require a copy of: \nMassage and Manual Therapy for Orthopaedic Conditions 2nd Edition by Thomas Hendrickson \n  \nLed By: Sue Bennett \nIncluded: Tea/Coffee\, Lunch \nDress Code: Loose\, comfortable\, smart \nDuration: 2 Days \nTimes: 09.00 – 18.00 \n
URL:https://flexible-healing.com/event/introduction-hendrickson-method-2-days/
LOCATION:Leeds Road\, Leeds\, LS16 9JJ\, United Kingdom
ORGANIZER;CN="Sue":MAILTO:info@flexible-healing.com
END:VEVENT
END:VCALENDAR