BEGIN:VCALENDAR
VERSION:2.0
PRODID:-//Flexible Healing - ECPv4.6.14.1//NONSGML v1.0//EN
CALSCALE:GREGORIAN
METHOD:PUBLISH
X-WR-CALNAME:Flexible Healing
X-ORIGINAL-URL:https://flexible-healing.com
X-WR-CALDESC:Events for Flexible Healing
BEGIN:VEVENT
DTSTART;TZID=UTC+0:20220326T090000
DTEND;TZID=UTC+0:20220326T170000
DTSTAMP:20260421T004511
CREATED:20220116T195842Z
LAST-MODIFIED:20220217T183916Z
UID:3014-1648285200-1648314000@flexible-healing.com
SUMMARY:Investigating the causes of chronic long term headaches
DESCRIPTION: \nThis workshop will be open to just 4 therapists\, ( Hendrickson Method  students and practitioners\, osteopaths\, Pilates teachers) we will spend the day investigating what could be the cause of long-term headaches exploring the patient’s postural response to life\, assessment protocol\, coaching skills to enable the people we treat to make choices that serve them well. \nKey objectives of this workshop : \n\nInvestigating the causes of long term headaches.\nExploring the patients postural response to life.\nReviewing anatomy and physiology\nApplying coaching skills within a treatment protocol\n\n  \n
URL:https://flexible-healing.com/event/investigating-the-causes-of-chronic-long-term-headaches/
LOCATION:Leeds Road\, Leeds\, LS16 9JJ\, United Kingdom
ORGANIZER;CN="Sue":MAILTO:info@flexible-healing.com
END:VEVENT
END:VCALENDAR