BEGIN:VCALENDAR
VERSION:2.0
PRODID:-//Flexible Healing - ECPv4.6.14.1//NONSGML v1.0//EN
CALSCALE:GREGORIAN
METHOD:PUBLISH
X-WR-CALNAME:Flexible Healing
X-ORIGINAL-URL:https://flexible-healing.com
X-WR-CALDESC:Events for Flexible Healing
BEGIN:VEVENT
DTSTART;TZID=UTC+0:20220312T090000
DTEND;TZID=UTC+0:20220313T170000
DTSTAMP:20260421T022735
CREATED:20210725T183057Z
LAST-MODIFIED:20210725T184755Z
UID:2938-1647075600-1647190800@flexible-healing.com
SUMMARY:Muscle Energy Technique for the Thoracic Spine and Ribs
DESCRIPTION:  \n \nThis two-day workshop is to further explore the usefulness of METs when treating joints\, in conjunction with Hendrickson Method techniques to address the soft tissue around them. \nKey objectives \n\nExamining indirect and direct techniques and recognising the difference.\nLinking METs with soft tissue release for the diaphragm.\nVisceral techniques that ease the junction of T12/L1\nUnderstanding that sometime we need to release a small segment before we can address the whole problem\nReviewing Hendrickson Method soft tissue and joint mobilisations\n\nThis workshop will contribute to 16 hours of CPD training \n
URL:https://flexible-healing.com/event/precision-muscle-energy-technique-for-the-thoracic-spine/
LOCATION:Leeds Road\, Leeds\, LS16 9JJ\, United Kingdom
ORGANIZER;CN="Sue":MAILTO:info@flexible-healing.com
END:VEVENT
END:VCALENDAR