BEGIN:VCALENDAR
VERSION:2.0
PRODID:-//Flexible Healing - ECPv4.6.14.1//NONSGML v1.0//EN
CALSCALE:GREGORIAN
METHOD:PUBLISH
X-WR-CALNAME:Flexible Healing
X-ORIGINAL-URL:https://flexible-healing.com
X-WR-CALDESC:Events for Flexible Healing
BEGIN:VEVENT
DTSTART;TZID=UTC+0:20240511T090000
DTEND;TZID=UTC+0:20240511T170000
DTSTAMP:20260420T143953
CREATED:20230710T075554Z
LAST-MODIFIED:20231218T002525Z
UID:3147-1715418000-1715446800@flexible-healing.com
SUMMARY:Revising and revisiting the psoas
DESCRIPTION: \nFor the second of our 2024 one-day workshops will explore the connections the psoas has with the rest of the body and its fascial connections\, taking a whole-body approach to recovering function and the patient’s awareness of its role within the body and movements. \nThe aim of these groups is to foster more focused training through small groups in a friendly setting. Each day will begin with coaching skills\, to increase your confidence in enabling the people we treat to tackle the mental aspects of their progression to better movement. \nWe will then move on to practical hands-on work\, with a focus on precision; how to soften up our touch\, with the aim of moving deeper into the soft tissue structure\, to create a neurological ‘safe space’. We will focus on intention\, what this means\, and how to feel at ease with this as therapist. \nWe will round up the day with movements\, based on Polestar pre-Pilates movements\, exploring ways to enable the people we treat to do the ‘homework.’ \nThere will be a handout\, video to access the Pilates movements explored and a follow-up via Zoom Q&A to be arranged to suit the workshop. \nTea/coffee and lunch is provided. \nIf you require accommodation\, there is a special rate for delegates. \n
URL:https://flexible-healing.com/event/revising-and-revisiting-psoas/
ORGANIZER;CN="Sue":MAILTO:info@flexible-healing.com
END:VEVENT
END:VCALENDAR