BEGIN:VCALENDAR
VERSION:2.0
PRODID:-//Flexible Healing - ECPv4.6.14.1//NONSGML v1.0//EN
CALSCALE:GREGORIAN
METHOD:PUBLISH
X-WR-CALNAME:Flexible Healing
X-ORIGINAL-URL:https://flexible-healing.com
X-WR-CALDESC:Events for Flexible Healing
BEGIN:VEVENT
DTSTART;TZID=UTC+0:20261010T080000
DTEND;TZID=UTC+0:20261010T170000
DTSTAMP:20260419T125628
CREATED:20260212T151540Z
LAST-MODIFIED:20260212T154918Z
UID:3416-1791619200-1791651600@flexible-healing.com
SUMMARY:Revising Hendrickson Method foot and ankle soft tissue mobilisation.
DESCRIPTION: \nThe day will be spent revising the precise foot and ankle soft tissue mobilisation\, of Tom Hendrickson. \nThe aims of this workshop: \n\nRe-visiting the anatomy of the foot and ankle\nChecking in on just how small the stokes are\, to be precise\nChecking in on our body posture when focusing and concentrating\nWith focus on those challenging to reach intrinsic muscles.\nHow to apply these techniques to the following foot dysfunction :\n\n\nPlanter fascitis and heel spurs\nMetatarsalgia\nPeroneus longus and brevis tendinitis and tenosynovitis\nHallux limitus and Hallus rigidus\nSesamoiditis of the great toe\nHammer and caw toes\nCommon peroneal nerve entrapment at the fibula\n\nThis is workshop is a full practical hands on  day \n
URL:https://flexible-healing.com/event/revising-hendrickson-method-foot-and-ankle-soft-tissue-mobilisation/
LOCATION:Leeds Road\, Leeds\, LS16 9JJ\, United Kingdom
ORGANIZER;CN="Sue":MAILTO:info@flexible-healing.com
END:VEVENT
END:VCALENDAR