BEGIN:VCALENDAR
VERSION:2.0
PRODID:-//Flexible Healing - ECPv4.6.14.1//NONSGML v1.0//EN
CALSCALE:GREGORIAN
METHOD:PUBLISH
X-WR-CALNAME:Flexible Healing
X-ORIGINAL-URL:https://flexible-healing.com
X-WR-CALDESC:Events for Flexible Healing
BEGIN:VEVENT
DTSTART;TZID=UTC+0:20191026T090000
DTEND;TZID=UTC+0:20191027T170000
DTSTAMP:20260421T123716
CREATED:20180630T103701Z
LAST-MODIFIED:20190615T091842Z
UID:2505-1572080400-1572195600@flexible-healing.com
SUMMARY:Supporting Joint Replacement
DESCRIPTION: \nA two day workshop on how we can help people going through joint replacement\, focusing on hips\, knees and shoulders. \nThe focus will be on pre and post-operative patients that are requiring joint re-placement. \nObjectives of the day: \n\nAn anatomy review with focus and exploration of fascial connections\nUnderstanding the Greys Institute to explore how this can be applied pre and post rehab. For this section we will have a guest speaker Stephen Shipperlee\nSpend time exploring how Polestar Pilates movement principals can help both body awareness and function\nWe will explore some NLP principals\, to aid us being able to inspire our patients to help themselves\, and further their recovery by being able to embrace the replacement and make it work for them\nHow to coach them so they are able to ask all the questions the need to ask of their consultant\nAlso reviewing our soft tissue mobilisation\, and how this can effect fascial tethering\n\nThis workshop is open to physiotherapists\, massage therapists\, movement practitioners (Pilates etc)\, osteopaths and chiropractors. \n  \n
URL:https://flexible-healing.com/event/supporting-joint-replacement/
LOCATION:Leeds Road\, Leeds\, LS16 9JJ\, United Kingdom
END:VEVENT
END:VCALENDAR